BEGIN:VCALENDAR
VERSION:2.0
PRODID:-//Crew Training Solutions - ECPv6.8.1//NONSGML v1.0//EN
CALSCALE:GREGORIAN
METHOD:PUBLISH
X-ORIGINAL-URL:https://www.crewtrainingsolutions.com
X-WR-CALDESC:Events for Crew Training Solutions
REFRESH-INTERVAL;VALUE=DURATION:PT1H
X-Robots-Tag:noindex
X-PUBLISHED-TTL:PT1H
BEGIN:VTIMEZONE
TZID:UTC
BEGIN:STANDARD
TZOFFSETFROM:+0000
TZOFFSETTO:+0000
TZNAME:UTC
DTSTART:20240101T000000
END:STANDARD
END:VTIMEZONE
BEGIN:VEVENT
DTSTART;TZID=UTC:20241118T090000
DTEND;TZID=UTC:20241120T170000
DTSTAMP:20260419T193818
CREATED:20240410T034507Z
LAST-MODIFIED:20240410T034507Z
UID:1116-1731920400-1732122000@www.crewtrainingsolutions.com
SUMMARY:MCA H.E.L.M. Human Elements\, Leadership & Management (Operational)
DESCRIPTION:
URL:https://www.crewtrainingsolutions.com/event/mca-h-e-l-m-human-elements-leadership-management-operational-9/
CATEGORIES:Leadership & Management (Operational),MCA H.E.L.M. Human Elements
END:VEVENT
BEGIN:VEVENT
DTSTART;TZID=UTC:20241007T090000
DTEND;TZID=UTC:20241009T170000
DTSTAMP:20260419T193818
CREATED:20240410T034507Z
LAST-MODIFIED:20240410T034507Z
UID:1115-1728291600-1728493200@www.crewtrainingsolutions.com
SUMMARY:MCA H.E.L.M. Human Elements\, Leadership & Management (Operational)
DESCRIPTION:
URL:https://www.crewtrainingsolutions.com/event/mca-h-e-l-m-human-elements-leadership-management-operational-8/
CATEGORIES:Leadership & Management (Operational),MCA H.E.L.M. Human Elements
END:VEVENT
BEGIN:VEVENT
DTSTART;TZID=UTC:20240904T090000
DTEND;TZID=UTC:20240906T170000
DTSTAMP:20260419T193818
CREATED:20240410T034507Z
LAST-MODIFIED:20240410T034507Z
UID:1114-1725440400-1725642000@www.crewtrainingsolutions.com
SUMMARY:MCA H.E.L.M. Human Elements\, Leadership & Management (Operational)
DESCRIPTION:
URL:https://www.crewtrainingsolutions.com/event/mca-h-e-l-m-human-elements-leadership-management-operational-7/
CATEGORIES:Leadership & Management (Operational),MCA H.E.L.M. Human Elements
END:VEVENT
BEGIN:VEVENT
DTSTART;TZID=UTC:20240806T090000
DTEND;TZID=UTC:20240808T170000
DTSTAMP:20260419T193818
CREATED:20240410T034507Z
LAST-MODIFIED:20240410T034507Z
UID:1113-1722934800-1723136400@www.crewtrainingsolutions.com
SUMMARY:MCA H.E.L.M. Human Elements\, Leadership & Management (Operational)
DESCRIPTION:
URL:https://www.crewtrainingsolutions.com/event/mca-h-e-l-m-human-elements-leadership-management-operational-6/
CATEGORIES:Leadership & Management (Operational),MCA H.E.L.M. Human Elements
END:VEVENT
BEGIN:VEVENT
DTSTART;TZID=UTC:20240703T090000
DTEND;TZID=UTC:20240705T170000
DTSTAMP:20260419T193818
CREATED:20240410T034506Z
LAST-MODIFIED:20240410T034506Z
UID:1112-1719997200-1720198800@www.crewtrainingsolutions.com
SUMMARY:MCA H.E.L.M. Human Elements\, Leadership & Management (Operational)
DESCRIPTION:
URL:https://www.crewtrainingsolutions.com/event/mca-h-e-l-m-human-elements-leadership-management-operational-5/
CATEGORIES:Leadership & Management (Operational),MCA H.E.L.M. Human Elements
END:VEVENT
BEGIN:VEVENT
DTSTART;TZID=UTC:20240618T090000
DTEND;TZID=UTC:20240620T170000
DTSTAMP:20260419T193818
CREATED:20240410T034450Z
LAST-MODIFIED:20240410T034450Z
UID:1111-1718701200-1718902800@www.crewtrainingsolutions.com
SUMMARY:MCA H.E.L.M. Human Elements\, Leadership & Management (Operational)
DESCRIPTION:
URL:https://www.crewtrainingsolutions.com/event/mca-h-e-l-m-human-elements-leadership-management-operational-4/
CATEGORIES:Leadership & Management (Operational),MCA H.E.L.M. Human Elements
END:VEVENT
BEGIN:VEVENT
DTSTART;TZID=UTC:20240501T090000
DTEND;TZID=UTC:20240503T170000
DTSTAMP:20260419T193818
CREATED:20240410T034450Z
LAST-MODIFIED:20240410T034450Z
UID:1110-1714554000-1714755600@www.crewtrainingsolutions.com
SUMMARY:MCA H.E.L.M. Human Elements\, Leadership & Management (Operational)
DESCRIPTION:
URL:https://www.crewtrainingsolutions.com/event/mca-h-e-l-m-human-elements-leadership-management-operational-3/
CATEGORIES:Leadership & Management (Operational),MCA H.E.L.M. Human Elements
END:VEVENT
END:VCALENDAR