BEGIN:VCALENDAR
VERSION:2.0
PRODID:-//Crew Training Solutions - ECPv6.8.1//NONSGML v1.0//EN
CALSCALE:GREGORIAN
METHOD:PUBLISH
X-WR-CALNAME:Crew Training Solutions
X-ORIGINAL-URL:https://www.crewtrainingsolutions.com
X-WR-CALDESC:Events for Crew Training Solutions
REFRESH-INTERVAL;VALUE=DURATION:PT1H
X-Robots-Tag:noindex
X-PUBLISHED-TTL:PT1H
BEGIN:VTIMEZONE
TZID:UTC
BEGIN:STANDARD
TZOFFSETFROM:+0000
TZOFFSETTO:+0000
TZNAME:UTC
DTSTART:20240101T000000
END:STANDARD
END:VTIMEZONE
BEGIN:VEVENT
DTSTART;TZID=UTC:20251208T090000
DTEND;TZID=UTC:20251212T170000
DTSTAMP:20260423T100341
CREATED:20250617T104705Z
LAST-MODIFIED:20250617T104705Z
UID:1805-1765184400-1765558800@www.crewtrainingsolutions.com
SUMMARY:STCW Basic Training (BST) Full Package
DESCRIPTION:
URL:https://www.crewtrainingsolutions.com/event/stcw-basic-training-bst-full-package-9/
CATEGORIES:STCW Basic Safety Training (BST)
END:VEVENT
BEGIN:VEVENT
DTSTART;TZID=UTC:20241117T090000
DTEND;TZID=UTC:20241121T170000
DTSTAMP:20260423T100341
CREATED:20250617T104600Z
LAST-MODIFIED:20250617T104600Z
UID:1807-1731834000-1732208400@www.crewtrainingsolutions.com
SUMMARY:STCW Basic Training (BST) Full Package
DESCRIPTION:
URL:https://www.crewtrainingsolutions.com/event/stcw-basic-training-bst-full-package-8/
CATEGORIES:STCW Basic Safety Training (BST)
END:VEVENT
BEGIN:VEVENT
DTSTART;TZID=UTC:20241013T090000
DTEND;TZID=UTC:20241017T170000
DTSTAMP:20260423T100341
CREATED:20240410T034034Z
LAST-MODIFIED:20250617T104245Z
UID:1010-1728810000-1729184400@www.crewtrainingsolutions.com
SUMMARY:STCW Basic Training (BST) Full Package
DESCRIPTION:
URL:https://www.crewtrainingsolutions.com/event/stcw-basic-training-bst-full-package-5/
CATEGORIES:STCW Basic Safety Training (BST)
END:VEVENT
BEGIN:VEVENT
DTSTART;TZID=UTC:20240915T090000
DTEND;TZID=UTC:20240919T170000
DTSTAMP:20260423T100341
CREATED:20240410T034124Z
LAST-MODIFIED:20250617T104424Z
UID:1027-1726390800-1726765200@www.crewtrainingsolutions.com
SUMMARY:STCW Basic Training (BST) Full Package
DESCRIPTION:
URL:https://www.crewtrainingsolutions.com/event/stcw-basic-training-bst-full-package-7/
CATEGORIES:STCW Basic Safety Training (BST)
END:VEVENT
BEGIN:VEVENT
DTSTART;TZID=UTC:20240722T090000
DTEND;TZID=UTC:20240726T170000
DTSTAMP:20260423T100341
CREATED:20240410T034034Z
LAST-MODIFIED:20240410T034034Z
UID:1011-1721638800-1722013200@www.crewtrainingsolutions.com
SUMMARY:STCW Basic Training (BST) Full Package
DESCRIPTION:
URL:https://www.crewtrainingsolutions.com/event/stcw-basic-training-bst-full-package-6/
CATEGORIES:STCW Basic Safety Training (BST)
END:VEVENT
BEGIN:VEVENT
DTSTART;TZID=UTC:20240707T090000
DTEND;TZID=UTC:20240711T170000
DTSTAMP:20260423T100341
CREATED:20240410T034034Z
LAST-MODIFIED:20250617T152029Z
UID:1009-1720342800-1720717200@www.crewtrainingsolutions.com
SUMMARY:STCW Basic Training (BST) Full Package
DESCRIPTION:
URL:https://www.crewtrainingsolutions.com/event/stcw-basic-training-bst-full-package-4/
CATEGORIES:STCW Basic Safety Training (BST)
END:VEVENT
END:VCALENDAR