BEGIN:VCALENDAR
VERSION:2.0
PRODID:-//Crew Training Solutions - ECPv6.8.1//NONSGML v1.0//EN
CALSCALE:GREGORIAN
METHOD:PUBLISH
X-WR-CALNAME:Crew Training Solutions
X-ORIGINAL-URL:https://www.crewtrainingsolutions.com
X-WR-CALDESC:Events for Crew Training Solutions
REFRESH-INTERVAL;VALUE=DURATION:PT1H
X-Robots-Tag:noindex
X-PUBLISHED-TTL:PT1H
BEGIN:VTIMEZONE
TZID:UTC
BEGIN:STANDARD
TZOFFSETFROM:+0000
TZOFFSETTO:+0000
TZNAME:UTC
DTSTART:20240101T000000
END:STANDARD
END:VTIMEZONE
BEGIN:VEVENT
DTSTART;TZID=UTC:20241218T080000
DTEND;TZID=UTC:20241218T170000
DTSTAMP:20260419T170146
CREATED:20240410T034311Z
LAST-MODIFIED:20240410T034311Z
UID:1066-1734508800-1734541200@www.crewtrainingsolutions.com
SUMMARY:STCW Elementary First Aid
DESCRIPTION:
URL:https://www.crewtrainingsolutions.com/event/stcw-elementary-first-aid-23/
CATEGORIES:STCW Elementary First Aid
END:VEVENT
BEGIN:VEVENT
DTSTART;TZID=UTC:20241215T080000
DTEND;TZID=UTC:20241215T170000
DTSTAMP:20260419T170146
CREATED:20240410T034311Z
LAST-MODIFIED:20240410T034311Z
UID:1065-1734249600-1734282000@www.crewtrainingsolutions.com
SUMMARY:STCW Elementary First Aid
DESCRIPTION:
URL:https://www.crewtrainingsolutions.com/event/stcw-elementary-first-aid-22/
CATEGORIES:STCW Elementary First Aid
END:VEVENT
BEGIN:VEVENT
DTSTART;TZID=UTC:20241127T080000
DTEND;TZID=UTC:20241127T170000
DTSTAMP:20260419T170146
CREATED:20240410T034310Z
LAST-MODIFIED:20240410T034310Z
UID:1064-1732694400-1732726800@www.crewtrainingsolutions.com
SUMMARY:STCW Elementary First Aid
DESCRIPTION:
URL:https://www.crewtrainingsolutions.com/event/stcw-elementary-first-aid-21/
CATEGORIES:STCW Elementary First Aid
END:VEVENT
BEGIN:VEVENT
DTSTART;TZID=UTC:20241111T080000
DTEND;TZID=UTC:20241111T170000
DTSTAMP:20260419T170146
CREATED:20240410T034310Z
LAST-MODIFIED:20240410T034310Z
UID:1063-1731312000-1731344400@www.crewtrainingsolutions.com
SUMMARY:STCW Elementary First Aid
DESCRIPTION:
URL:https://www.crewtrainingsolutions.com/event/stcw-elementary-first-aid-20/
CATEGORIES:STCW Elementary First Aid
END:VEVENT
BEGIN:VEVENT
DTSTART;TZID=UTC:20241030T080000
DTEND;TZID=UTC:20241030T170000
DTSTAMP:20260419T170146
CREATED:20240410T034310Z
LAST-MODIFIED:20240410T034310Z
UID:1062-1730275200-1730307600@www.crewtrainingsolutions.com
SUMMARY:STCW Elementary First Aid
DESCRIPTION:
URL:https://www.crewtrainingsolutions.com/event/stcw-elementary-first-aid-19/
CATEGORIES:STCW Elementary First Aid
END:VEVENT
BEGIN:VEVENT
DTSTART;TZID=UTC:20241021T080000
DTEND;TZID=UTC:20241021T170000
DTSTAMP:20260419T170146
CREATED:20240410T034249Z
LAST-MODIFIED:20240410T034249Z
UID:1061-1729497600-1729530000@www.crewtrainingsolutions.com
SUMMARY:STCW Elementary First Aid
DESCRIPTION:
URL:https://www.crewtrainingsolutions.com/event/stcw-elementary-first-aid-18/
CATEGORIES:STCW Elementary First Aid
END:VEVENT
BEGIN:VEVENT
DTSTART;TZID=UTC:20240925T080000
DTEND;TZID=UTC:20240925T170000
DTSTAMP:20260419T170146
CREATED:20240410T034249Z
LAST-MODIFIED:20240410T034249Z
UID:1060-1727251200-1727283600@www.crewtrainingsolutions.com
SUMMARY:STCW Elementary First Aid
DESCRIPTION:
URL:https://www.crewtrainingsolutions.com/event/stcw-elementary-first-aid-17/
CATEGORIES:STCW Elementary First Aid
END:VEVENT
BEGIN:VEVENT
DTSTART;TZID=UTC:20240916T080000
DTEND;TZID=UTC:20240916T170000
DTSTAMP:20260419T170146
CREATED:20240410T034249Z
LAST-MODIFIED:20240410T034249Z
UID:1059-1726473600-1726506000@www.crewtrainingsolutions.com
SUMMARY:STCW Elementary First Aid
DESCRIPTION:
URL:https://www.crewtrainingsolutions.com/event/stcw-elementary-first-aid-16/
CATEGORIES:STCW Elementary First Aid
END:VEVENT
BEGIN:VEVENT
DTSTART;TZID=UTC:20240828T080000
DTEND;TZID=UTC:20240828T170000
DTSTAMP:20260419T170146
CREATED:20240410T034248Z
LAST-MODIFIED:20240410T034248Z
UID:1058-1724832000-1724864400@www.crewtrainingsolutions.com
SUMMARY:STCW Elementary First Aid
DESCRIPTION:
URL:https://www.crewtrainingsolutions.com/event/stcw-elementary-first-aid-15/
CATEGORIES:STCW Elementary First Aid
END:VEVENT
BEGIN:VEVENT
DTSTART;TZID=UTC:20240819T080000
DTEND;TZID=UTC:20240819T170000
DTSTAMP:20260419T170146
CREATED:20240410T034248Z
LAST-MODIFIED:20240410T034248Z
UID:1057-1724054400-1724086800@www.crewtrainingsolutions.com
SUMMARY:STCW Elementary First Aid
DESCRIPTION:
URL:https://www.crewtrainingsolutions.com/event/stcw-elementary-first-aid-14/
CATEGORIES:STCW Elementary First Aid
END:VEVENT
BEGIN:VEVENT
DTSTART;TZID=UTC:20240724T080000
DTEND;TZID=UTC:20240724T170000
DTSTAMP:20260419T170146
CREATED:20240410T034234Z
LAST-MODIFIED:20240410T034234Z
UID:1056-1721808000-1721840400@www.crewtrainingsolutions.com
SUMMARY:STCW Elementary First Aid
DESCRIPTION:
URL:https://www.crewtrainingsolutions.com/event/stcw-elementary-first-aid-13/
CATEGORIES:STCW Elementary First Aid
END:VEVENT
BEGIN:VEVENT
DTSTART;TZID=UTC:20240715T080000
DTEND;TZID=UTC:20240715T170000
DTSTAMP:20260419T170146
CREATED:20240410T034233Z
LAST-MODIFIED:20240410T034233Z
UID:1055-1721030400-1721062800@www.crewtrainingsolutions.com
SUMMARY:STCW Elementary First Aid
DESCRIPTION:
URL:https://www.crewtrainingsolutions.com/event/stcw-elementary-first-aid-12/
CATEGORIES:STCW Elementary First Aid
END:VEVENT
BEGIN:VEVENT
DTSTART;TZID=UTC:20240626T080000
DTEND;TZID=UTC:20240626T170000
DTSTAMP:20260419T170146
CREATED:20240410T034233Z
LAST-MODIFIED:20240410T034233Z
UID:1054-1719388800-1719421200@www.crewtrainingsolutions.com
SUMMARY:STCW Elementary First Aid
DESCRIPTION:
URL:https://www.crewtrainingsolutions.com/event/stcw-elementary-first-aid-11/
CATEGORIES:STCW Elementary First Aid
END:VEVENT
BEGIN:VEVENT
DTSTART;TZID=UTC:20240603T080000
DTEND;TZID=UTC:20240603T170000
DTSTAMP:20260419T170146
CREATED:20240410T034233Z
LAST-MODIFIED:20240410T034233Z
UID:1053-1717401600-1717434000@www.crewtrainingsolutions.com
SUMMARY:STCW Elementary First Aid
DESCRIPTION:
URL:https://www.crewtrainingsolutions.com/event/stcw-elementary-first-aid-10/
CATEGORIES:STCW Elementary First Aid
END:VEVENT
BEGIN:VEVENT
DTSTART;TZID=UTC:20240529T080000
DTEND;TZID=UTC:20240529T170000
DTSTAMP:20260419T170146
CREATED:20240410T034233Z
LAST-MODIFIED:20240410T034233Z
UID:1052-1716969600-1717002000@www.crewtrainingsolutions.com
SUMMARY:STCW Elementary First Aid
DESCRIPTION:
URL:https://www.crewtrainingsolutions.com/event/stcw-elementary-first-aid-9/
CATEGORIES:STCW Elementary First Aid
END:VEVENT
BEGIN:VEVENT
DTSTART;TZID=UTC:20240512T080000
DTEND;TZID=UTC:20240512T170000
DTSTAMP:20260419T170146
CREATED:20240410T034219Z
LAST-MODIFIED:20240410T034219Z
UID:1051-1715500800-1715533200@www.crewtrainingsolutions.com
SUMMARY:STCW Elementary First Aid
DESCRIPTION:
URL:https://www.crewtrainingsolutions.com/event/stcw-elementary-first-aid-8/
CATEGORIES:STCW Elementary First Aid
END:VEVENT
BEGIN:VEVENT
DTSTART;TZID=UTC:20240424T080000
DTEND;TZID=UTC:20240424T170000
DTSTAMP:20260419T170146
CREATED:20240410T034218Z
LAST-MODIFIED:20240410T034218Z
UID:1050-1713945600-1713978000@www.crewtrainingsolutions.com
SUMMARY:STCW Elementary First Aid
DESCRIPTION:
URL:https://www.crewtrainingsolutions.com/event/stcw-elementary-first-aid-7/
CATEGORIES:STCW Elementary First Aid
END:VEVENT
BEGIN:VEVENT
DTSTART;TZID=UTC:20240415T080000
DTEND;TZID=UTC:20240415T170000
DTSTAMP:20260419T170146
CREATED:20240410T034218Z
LAST-MODIFIED:20240410T034218Z
UID:1049-1713168000-1713200400@www.crewtrainingsolutions.com
SUMMARY:STCW Elementary First Aid
DESCRIPTION:
URL:https://www.crewtrainingsolutions.com/event/stcw-elementary-first-aid-6/
CATEGORIES:STCW Elementary First Aid
END:VEVENT
END:VCALENDAR